BEGIN:VCALENDAR
VERSION:2.0
PRODID:New Zealand Kite Racing Association
CALSCALE:GREGORIAN
BEGIN:VEVENT
DTSTAMP:20180123T151643Z
UID:a3f4d611-0a7f-4fd4-8cd9-fd7c394e61c9
DTSTART:20160425T020000Z
DTEND:20160425T100000Z
DESCRIPTION:It's on again ladies and gentlemen! After last years great succ
 ess we are going one larger for Auckland's innaugral Anzac Challenge. For A
 NY and ALL sailing craft to take out the top spot and fastest time around R
 angitoto!\n\nMichael Pepper & Matt Taggart gave it a go one year ago with b
 oat and video support by Joshua McCormack: Matt managed it in 1.13hr from T
 amaki Yacht Club slipway\n\nCheck out the video from that round Rangi sessi
 on: https://vimeo.com/113042173\n\nThe race is on to beat that time....\n\n
 Start: 1100 hours first possible start.\n\nStart Line: Between the Starboar
 d channel marker of Bean Rock and Port channel marker of West Bastion Reef.
 \n\nRounding Rangitoto: Head NE from start for Motuihe Channel\, pass East 
 of Motutapu\, head through Rakino Channel\, round Billy Goat Point in the n
 orth of Motutapu and straight down round the outside of  McKenzie Bay reef.
  After rounding follow south back to the start/finish line.\n\nFinish Line:
  The same as the start line\, between the Starboard channel marker of Bean 
 Rock and Port channel marker of West Bastion Reef.\n\nTracking (compulsory)
 : http://www.predictwind.com/tracker/setup.html\n\nEach entry must provide 
 their own rescue boat/jetski with coastguard approved safety equipment.\n\n
 By entering you agree to the following:\nIt is understood that this is a re
 ndezvous of wind powered classes\, that all precautions have been made by t
 he individual or team as to their own safety. Safety precautions including 
 providing their own powered vessel with qualified crew with coastguard appr
 oved safety equipment including lifejackets\, flares\, VHF and GSM radios. 
 \n\nWeather permitting\, decision if race will go ahead will be notified on
  the 24th by 5pm on this website. Keep checking back for updates\n\n \n
LOCATION:Kohimaramara Beach
SUMMARY:ROUND RANGI (ANZAC) Challenge 2016
URL:http://nzkra.nz/public/events/4975-round-rangi-anzac-challenge-2016
END:VEVENT
BEGIN:VEVENT
DTSTAMP:20180123T151643Z
UID:eaeda6ec-e4dc-4a3c-9e77-f5fc32eda631
DTSTART:20170130T020000Z
DTEND:20170130T080000Z
DESCRIPTION:Kite Foil Racing is being hosted by the Takapuna Boating Club i
 n conjunction with other classes. The number of races and course will be gi
 ven at the briefing at 11am. Warning signal Race 1 1200hrs. Entry fee is $1
 5. Entry is on the day at the Takapuna Boating Club Rooms on the beach.\n
LOCATION:39 The Strand\, Takapuna Beach\, Auckland
SUMMARY:Anniversary Day Regatta
URL:http://nzkra.nz/public/events/9959-anniversary-day-regatta
END:VEVENT
BEGIN:VEVENT
DTSTAMP:20180123T151643Z
UID:e243726a-3638-4623-a069-bcb7da970d5e
DTSTART:20170204T010000Z
DTEND:20170206T090000Z
DESCRIPTION:The New Zealand Kite Foilboard Nationals Championships is being
  hosted by the Takapuna Boating Club. The event will be run over 3 days. Sa
 turday 4th Feb to Monday 6th Feb. Registration 0900 to 1100 at the boat clu
 b. Entry Fee is $120. The Notice of Race will be published shortly.\n
LOCATION:39 The Strand\, Takapuna Beach\, Auckland
SUMMARY:New Zealand Kite Foil Nationals 2017
URL:http://nzkra.nz/public/events/9961-new-zealand-kite-foil-nationals-2017
END:VEVENT
BEGIN:VEVENT
DTSTAMP:20180123T151643Z
UID:52ba5c96-c3f0-4b96-956f-e7358e04078b
DTSTART:20170513T000000Z
DTEND:20170514T062000Z
DESCRIPTION:King of the Waitemata\n\n13-14th May 2017\n\nAuckland\n\nNew Ze
 aland\n\nTo all high performance sailing classes come and enjoy a day of ex
 citing record breaking sailing around Rangitoto in the Waitemata Harbour. W
 indy location\, challenging conditions\, fast and fun!\n\nBriefing\, Safety
  Meeting and Sign On\, Kohimarama Sailing Club at 10am on Saturday 13th Apr
 il 2017. (backup day’s 14th\, May 2017)\n\nLaunching Kohi Beach or Torpedo 
 Bay (depending on wind direction & craft)\, Bean Rock for 11am start.\n\n\n
 	\n		\n			\n			RACE PROGRAM Saturday 13th May 2017\n			\n		\n		\n			\n			Ra
 ce 1 – 10 minute flag 11.00am\n			\n		\n	\n\n\nPlease note racing may be ex
 tended until 4pm on the day should conditions require delayed starting.\n\n
 All going well there will be a Twin Tip Kiteboarding Drag Race in the harbo
 r between two set points at 4pm. Prizes for the Winner\, Biggest Crash and 
 Most Spectacular Downwind Jump.\n\nENTER ONLINE By Purchasing a Ticket\n\n 
 Purchase a NZKRA membership here: http://www.nzkra.nz/public/memberships/ne
 w\n\nNOR\n\nENTRY FORM\n\nENTRY LIST\n\n\nOrganising Committee is Brad Walk
 er\, Joshua McCormack and Sam Bullock. Contact details are Brad Walker 022 
 352 1003 bwyachting@mac.com\, Joshua McCormack 021 141 3074 joshuajamesmcco
 rmack@gmail.com\, Sam Bullock 022 375 6862 sam.b.bullock@gmail.com\n
LOCATION:Kohimarama Yacht Club
SUMMARY:2017 King Of The Waitemata
URL:http://nzkra.nz/public/events/11406-2017-king-of-the-waitemata
END:VEVENT
END:VCALENDAR
